BEGIN:VCALENDAR
VERSION:2.0
PRODID:-//Le Kikafekoi - Café associatif de Langueux - ECPv6.15.20//NONSGML v1.0//EN
CALSCALE:GREGORIAN
METHOD:PUBLISH
X-WR-CALNAME:Le Kikafekoi - Café associatif de Langueux
X-ORIGINAL-URL:https://www.kikafekoi.fr
X-WR-CALDESC:Évènements pour Le Kikafekoi - Café associatif de Langueux
REFRESH-INTERVAL;VALUE=DURATION:PT1H
X-Robots-Tag:noindex
X-PUBLISHED-TTL:PT1H
BEGIN:VTIMEZONE
TZID:Europe/Paris
BEGIN:DAYLIGHT
TZOFFSETFROM:+0100
TZOFFSETTO:+0200
TZNAME:CEST
DTSTART:20160327T010000
END:DAYLIGHT
BEGIN:STANDARD
TZOFFSETFROM:+0200
TZOFFSETTO:+0100
TZNAME:CET
DTSTART:20161030T010000
END:STANDARD
BEGIN:DAYLIGHT
TZOFFSETFROM:+0100
TZOFFSETTO:+0200
TZNAME:CEST
DTSTART:20170326T010000
END:DAYLIGHT
BEGIN:STANDARD
TZOFFSETFROM:+0200
TZOFFSETTO:+0100
TZNAME:CET
DTSTART:20171029T010000
END:STANDARD
BEGIN:DAYLIGHT
TZOFFSETFROM:+0100
TZOFFSETTO:+0200
TZNAME:CEST
DTSTART:20180325T010000
END:DAYLIGHT
BEGIN:STANDARD
TZOFFSETFROM:+0200
TZOFFSETTO:+0100
TZNAME:CET
DTSTART:20181028T010000
END:STANDARD
BEGIN:DAYLIGHT
TZOFFSETFROM:+0100
TZOFFSETTO:+0200
TZNAME:CEST
DTSTART:20190331T010000
END:DAYLIGHT
BEGIN:STANDARD
TZOFFSETFROM:+0200
TZOFFSETTO:+0100
TZNAME:CET
DTSTART:20191027T010000
END:STANDARD
END:VTIMEZONE
BEGIN:VTIMEZONE
TZID:Europe/Paris
BEGIN:DAYLIGHT
TZOFFSETFROM:+0100
TZOFFSETTO:+0200
TZNAME:CEST
DTSTART:20160327T010000
END:DAYLIGHT
BEGIN:STANDARD
TZOFFSETFROM:+0200
TZOFFSETTO:+0100
TZNAME:CET
DTSTART:20161030T010000
END:STANDARD
BEGIN:DAYLIGHT
TZOFFSETFROM:+0100
TZOFFSETTO:+0200
TZNAME:CEST
DTSTART:20170326T010000
END:DAYLIGHT
BEGIN:STANDARD
TZOFFSETFROM:+0200
TZOFFSETTO:+0100
TZNAME:CET
DTSTART:20171029T010000
END:STANDARD
BEGIN:DAYLIGHT
TZOFFSETFROM:+0100
TZOFFSETTO:+0200
TZNAME:CEST
DTSTART:20180325T010000
END:DAYLIGHT
BEGIN:STANDARD
TZOFFSETFROM:+0200
TZOFFSETTO:+0100
TZNAME:CET
DTSTART:20181028T010000
END:STANDARD
END:VTIMEZONE
BEGIN:VEVENT
DTSTART;TZID=Europe/Paris:20180614T200000
DTEND;TZID=Europe/Paris:20180614T220000
DTSTAMP:20260425T032015
CREATED:20180528T083522Z
LAST-MODIFIED:20180528T190615Z
UID:2719-1529006400-1529013600@www.kikafekoi.fr
SUMMARY:Soirée chorale
DESCRIPTION:La chorale éphémère au répertoire révolutionnaire part pour une répétition one shot avant les fêtes de la musique. Les nouveaux sont les bienvenus.
URL:https://www.kikafekoi.fr/event/soiree-chorale/
LOCATION:Kikafékoi\, passage des Libellules\, 11 rue de la pièce Perrot\, Langueux
END:VEVENT
BEGIN:VEVENT
DTSTART;TZID=Europe/Paris:20171222T180000
DTEND;TZID=Europe/Paris:20171222T200000
DTSTAMP:20260425T032015
CREATED:20170907T085218Z
LAST-MODIFIED:20170918T071409Z
UID:2360-1513965600-1513972800@www.kikafekoi.fr
SUMMARY:Chants de Noël
DESCRIPTION:Ce soir\, on prend notre bonne humeur\, et on fait le tour de Langueux pour chanter au porte-à-porte. \nTu sais chanter (ou pas)\, tu as ton lampion (ou pas)\, en tout cas tu veux passer un bon moment et terminer par un vin chaud\, alors rejoins la bande.
URL:https://www.kikafekoi.fr/event/ya-dla-joie/
LOCATION:Kikafékoi\, passage des Libellules\, 11 rue de la pièce Perrot\, Langueux
END:VEVENT
BEGIN:VEVENT
DTSTART;TZID=Europe/Paris:20171124T200000
DTEND;TZID=Europe/Paris:20171124T230000
DTSTAMP:20260425T032015
CREATED:20170626T150547Z
LAST-MODIFIED:20170626T150804Z
UID:2316-1511553600-1511564400@www.kikafekoi.fr
SUMMARY:Soirée Gallo
DESCRIPTION:En partenariat avec l’association bertegn galezz dans le cadre du festival Gallo en scène.
URL:https://www.kikafekoi.fr/event/soiree-gallo/
LOCATION:Salle des Mouettes\, 19 bis rue de Saint Ilan\, Langueux\, 22360
END:VEVENT
BEGIN:VEVENT
DTSTART;TZID=Europe/Paris:20171005T200000
DTEND;TZID=Europe/Paris:20171005T220000
DTSTAMP:20260425T032015
CREATED:20171002T063022Z
LAST-MODIFIED:20171002T063022Z
UID:2388-1507233600-1507240800@www.kikafekoi.fr
SUMMARY:Chorale
DESCRIPTION:Deuxième rendez-vous pour la chorale\, il est toujours temps\, de prendre le train en marche.
URL:https://www.kikafekoi.fr/event/chorale/
LOCATION:Kikafékoi\, passage des Libellules\, 11 rue de la pièce Perrot\, Langueux
END:VEVENT
BEGIN:VEVENT
DTSTART;TZID=Europe/Paris:20170929T200000
DTEND;TZID=Europe/Paris:20170929T220000
DTSTAMP:20260425T032015
CREATED:20170830T131724Z
LAST-MODIFIED:20170830T131750Z
UID:2333-1506715200-1506722400@www.kikafekoi.fr
SUMMARY:Motivé.e.s ! Chorale éphémère
DESCRIPTION:A l’occasion du concert des Motivés à Langueux le 16 décembre prochain\, nous montons une chorale éphémère. Au menu\, chants de luttes. En partenariat avec le Grand Pré\, nous chanterons dans le hall avant le concert. \nLors de cette séance de rentrée on chantera bien sûr\, mais aussi on choisira notre fonctionnement (jour\, heure et fréquence des répétitions) et on discutera du répertoire. \nPour commencer : \nHymne des femmes paroles et musique \nZim zoum ZAD paroles et musique
URL:https://www.kikafekoi.fr/event/motive-e-s-chorale-ephemere/
LOCATION:Kikafékoi\, passage des Libellules\, 11 rue de la pièce Perrot\, Langueux
END:VEVENT
BEGIN:VEVENT
DTSTART;TZID=Europe/Paris:20170818T180000
DTEND;TZID=Europe/Paris:20170818T200000
DTSTAMP:20260425T032015
CREATED:20170813T065300Z
LAST-MODIFIED:20170813T065300Z
UID:2324-1503079200-1503086400@www.kikafekoi.fr
SUMMARY:Golden Ears en concert
DESCRIPTION:Dans le cadre du café des beaux jours\, Golden Ears\, jeune groupe langueusien de pop-rock se produira pour le plaisir de nos oreilles. \nGratuit
URL:https://www.kikafekoi.fr/event/golden-ears-en-concert/
LOCATION:Kikafékoi\, passage des Libellules\, 11 rue de la pièce Perrot\, Langueux
END:VEVENT
BEGIN:VEVENT
DTSTART;TZID=Europe/Paris:20170623T190000
DTEND;TZID=Europe/Paris:20170623T230000
DTSTAMP:20260425T032015
CREATED:20170113T071834Z
LAST-MODIFIED:20170618T165027Z
UID:1996-1498244400-1498258800@www.kikafekoi.fr
SUMMARY:Fête de la musique
DESCRIPTION:On monte une scène\, une buvette\, on chante\, on investit la rue et que vive la musique ! \nUne chorale éphémère chantera à 21h avec un répertoire international appris auprès des Wargasound \nPS : on cherche des bras pour le montage et le démontage.
URL:https://www.kikafekoi.fr/event/fete-de-la-musique/
END:VEVENT
BEGIN:VEVENT
DTSTART;TZID=Europe/Paris:20170621T203000
DTEND;TZID=Europe/Paris:20170621T223000
DTSTAMP:20260425T032015
CREATED:20170618T165152Z
LAST-MODIFIED:20170618T165152Z
UID:2294-1498077000-1498084200@www.kikafekoi.fr
SUMMARY:Répétition chorale
DESCRIPTION:Dernière répétition du répertoire avant la fête de la musique.
URL:https://www.kikafekoi.fr/event/repetition-chorale/
LOCATION:Kikafékoi\, passage des Libellules\, 11 rue de la pièce Perrot\, Langueux
END:VEVENT
BEGIN:VEVENT
DTSTART;TZID=Europe/Paris:20170618T140000
DTEND;TZID=Europe/Paris:20170618T180000
DTSTAMP:20260425T032015
CREATED:20170131T104513Z
LAST-MODIFIED:20170619T062926Z
UID:2031-1497794400-1497808800@www.kikafekoi.fr
SUMMARY:Dimanche en chansons
DESCRIPTION:Chanteur d’opéra\, d’opérette ou seulement sous la douche\, cet atelier est pour toi. Et en plus\, on se produira à la fête de la musique avec un répertoire international appris auprès des Wargasound.
URL:https://www.kikafekoi.fr/event/dimanche-en-chansons/
LOCATION:Kikafékoi\, passage des Libellules\, 11 rue de la pièce Perrot\, Langueux
END:VEVENT
BEGIN:VEVENT
DTSTART;TZID=Europe/Paris:20170616T200000
DTEND;TZID=Europe/Paris:20170616T213000
DTSTAMP:20260425T032015
CREATED:20170524T064044Z
LAST-MODIFIED:20170619T062950Z
UID:2238-1497643200-1497648600@www.kikafekoi.fr
SUMMARY:Chorale éphémère
DESCRIPTION:Si tu aimes chanter\, même comme une casserole\, cette soirée est pour toi. Nous lançons pour la fête de la musique de Langueux la grande chorale éphémère : trois répétitions\, une prestation. Avec un répertoire international appris auprès des Wargasound.
URL:https://www.kikafekoi.fr/event/chorale-ephemere/
LOCATION:Kikafékoi\, passage des Libellules\, 11 rue de la pièce Perrot\, Langueux
END:VEVENT
BEGIN:VEVENT
DTSTART;TZID=Europe/Paris:20170120T200000
DTEND;TZID=Europe/Paris:20170120T220000
DTSTAMP:20260425T032015
CREATED:20161117T122546Z
LAST-MODIFIED:20161230T113644Z
UID:1861-1484942400-1484949600@www.kikafekoi.fr
SUMMARY:Bœuf musical
DESCRIPTION:Apporte ton instrument\, ta voix\, ton carnet de chant ou tes oreilles et c’est parti.
URL:https://www.kikafekoi.fr/event/boeuf-musical/
LOCATION:Kikafékoi\, passage des Libellules\, 11 rue de la pièce Perrot\, Langueux
END:VEVENT
END:VCALENDAR