BEGIN:VCALENDAR
VERSION:2.0
PRODID:-//Le Kikafekoi - Café associatif de Langueux - ECPv6.15.20//NONSGML v1.0//EN
CALSCALE:GREGORIAN
METHOD:PUBLISH
X-ORIGINAL-URL:https://www.kikafekoi.fr
X-WR-CALDESC:Évènements pour Le Kikafekoi - Café associatif de Langueux
REFRESH-INTERVAL;VALUE=DURATION:PT1H
X-Robots-Tag:noindex
X-PUBLISHED-TTL:PT1H
BEGIN:VTIMEZONE
TZID:Europe/Paris
BEGIN:DAYLIGHT
TZOFFSETFROM:+0100
TZOFFSETTO:+0200
TZNAME:CEST
DTSTART:20160327T010000
END:DAYLIGHT
BEGIN:STANDARD
TZOFFSETFROM:+0200
TZOFFSETTO:+0100
TZNAME:CET
DTSTART:20161030T010000
END:STANDARD
BEGIN:DAYLIGHT
TZOFFSETFROM:+0100
TZOFFSETTO:+0200
TZNAME:CEST
DTSTART:20170326T010000
END:DAYLIGHT
BEGIN:STANDARD
TZOFFSETFROM:+0200
TZOFFSETTO:+0100
TZNAME:CET
DTSTART:20171029T010000
END:STANDARD
BEGIN:DAYLIGHT
TZOFFSETFROM:+0100
TZOFFSETTO:+0200
TZNAME:CEST
DTSTART:20180325T010000
END:DAYLIGHT
BEGIN:STANDARD
TZOFFSETFROM:+0200
TZOFFSETTO:+0100
TZNAME:CET
DTSTART:20181028T010000
END:STANDARD
BEGIN:DAYLIGHT
TZOFFSETFROM:+0100
TZOFFSETTO:+0200
TZNAME:CEST
DTSTART:20190331T010000
END:DAYLIGHT
BEGIN:STANDARD
TZOFFSETFROM:+0200
TZOFFSETTO:+0100
TZNAME:CET
DTSTART:20191027T010000
END:STANDARD
BEGIN:DAYLIGHT
TZOFFSETFROM:+0100
TZOFFSETTO:+0200
TZNAME:CEST
DTSTART:20200329T010000
END:DAYLIGHT
BEGIN:STANDARD
TZOFFSETFROM:+0200
TZOFFSETTO:+0100
TZNAME:CET
DTSTART:20201025T010000
END:STANDARD
END:VTIMEZONE
BEGIN:VTIMEZONE
TZID:Europe/Paris
BEGIN:DAYLIGHT
TZOFFSETFROM:+0100
TZOFFSETTO:+0200
TZNAME:CEST
DTSTART:20160327T010000
END:DAYLIGHT
BEGIN:STANDARD
TZOFFSETFROM:+0200
TZOFFSETTO:+0100
TZNAME:CET
DTSTART:20161030T010000
END:STANDARD
BEGIN:DAYLIGHT
TZOFFSETFROM:+0100
TZOFFSETTO:+0200
TZNAME:CEST
DTSTART:20170326T010000
END:DAYLIGHT
BEGIN:STANDARD
TZOFFSETFROM:+0200
TZOFFSETTO:+0100
TZNAME:CET
DTSTART:20171029T010000
END:STANDARD
BEGIN:DAYLIGHT
TZOFFSETFROM:+0100
TZOFFSETTO:+0200
TZNAME:CEST
DTSTART:20180325T010000
END:DAYLIGHT
BEGIN:STANDARD
TZOFFSETFROM:+0200
TZOFFSETTO:+0100
TZNAME:CET
DTSTART:20181028T010000
END:STANDARD
BEGIN:DAYLIGHT
TZOFFSETFROM:+0100
TZOFFSETTO:+0200
TZNAME:CEST
DTSTART:20190331T010000
END:DAYLIGHT
BEGIN:STANDARD
TZOFFSETFROM:+0200
TZOFFSETTO:+0100
TZNAME:CET
DTSTART:20191027T010000
END:STANDARD
END:VTIMEZONE
BEGIN:VEVENT
DTSTART;TZID=Europe/Paris:20190217T140000
DTEND;TZID=Europe/Paris:20190217T180000
DTSTAMP:20260425T030009
CREATED:20190122T105812Z
LAST-MODIFIED:20190127T181035Z
UID:48197-1550412000-1550426400@www.kikafekoi.fr
SUMMARY:Atelier brico-déco
DESCRIPTION:Le samedi 16 mars\, c’est la scène ouverte\, « le thon monte ! »\, alors\, avec ceux qui veulent\, adultes et enfants\, on crée les décors…
URL:https://www.kikafekoi.fr/event/atelier-brico-deco/
LOCATION:Kikafékoi\, passage des Libellules\, 11 rue de la pièce Perrot\, Langueux
CATEGORIES:Evenements
ATTACH;FMTTYPE=image/jpeg:https://www.kikafekoi.fr/wp-content/uploads/2019/01/Atelier-brico-kikafékoi.jpg
END:VEVENT
BEGIN:VEVENT
DTSTART;TZID=Europe/Paris:20190209T093000
DTEND;TZID=Europe/Paris:20190209T120000
DTSTAMP:20260425T030009
CREATED:20190123T131813Z
LAST-MODIFIED:20190129T151929Z
UID:48202-1549704600-1549713600@www.kikafekoi.fr
SUMMARY:Séance de créativité
DESCRIPTION:Le 16 mars c’est la scène ouverte du Kikaf’. Comme d’hab’\, ce sera super\, comme d’hab’\, il y a un thème : « le thon monte ». \nTu veux monter sur scène\, faire ma déco ou  donner un coup de main\, ce matin c’est le lancement\, on se retrouve avec tous ceux qui veulent\, on s’abandonne\, on se laisse guider pour faire jaillir les idées\, on lance les équipes… \nPas la peine de réfléchir avant de venir\, on fait confiance au groupe.
URL:https://www.kikafekoi.fr/event/seance-de-creativite-scene-ouverte/
LOCATION:Kikafékoi\, passage des Libellules\, 11 rue de la pièce Perrot\, Langueux
CATEGORIES:Evenements
ATTACH;FMTTYPE=image/jpeg:https://www.kikafekoi.fr/wp-content/uploads/2019/01/Créativité-kikafékoi-langueux.jpg
END:VEVENT
BEGIN:VEVENT
DTSTART;TZID=Europe/Paris:20190115T200000
DTEND;TZID=Europe/Paris:20190115T220000
DTSTAMP:20260425T030009
CREATED:20181128T095322Z
LAST-MODIFIED:20181214T070733Z
UID:48032-1547582400-1547589600@www.kikafekoi.fr
SUMMARY:Repair Café
DESCRIPTION:On se retrouve ensemble pour redonner vie aux objets de notre quotidien. Il y a des gens qui ont des choses à réparer et les autres\, ceux qui ont des outils et les autres\, ceux qui sont bricoleurs\, ceux qui veulent apprendre et ça fait un beau mélange.
URL:https://www.kikafekoi.fr/event/repair-cafe-17/
LOCATION:Kikafékoi\, passage des Libellules\, 11 rue de la pièce Perrot\, Langueux
CATEGORIES:Evenements
ATTACH;FMTTYPE=image/jpeg:https://www.kikafekoi.fr/wp-content/uploads/2018/10/Repair-Kikafékoi.jpg
END:VEVENT
BEGIN:VEVENT
DTSTART;TZID=Europe/Paris:20181219T160000
DTEND;TZID=Europe/Paris:20181219T180000
DTSTAMP:20260425T030009
CREATED:20181128T094653Z
LAST-MODIFIED:20181128T094653Z
UID:48026-1545235200-1545242400@www.kikafekoi.fr
SUMMARY:Atelier décos de Noël et chants
DESCRIPTION:Avec du matériel de récup’\, Peggy nous apprendra à faire de belles décos de Noël. Ensuite\, tout un groupe a envie de préparer des chants pour la déambulation du 21 décembre. Et avec ça comme d’habitude\, on partage une boisson et un gâteau que chacun apporte.
URL:https://www.kikafekoi.fr/event/atelier-decos-de-noel-et-chants/
LOCATION:Salle de l’Orangerie\, 39\, rue de l'Aubépine\, Langueux\, 22360\, France
CATEGORIES:Evenements
END:VEVENT
BEGIN:VEVENT
DTSTART;TZID=Europe/Paris:20181217T140000
DTEND;TZID=Europe/Paris:20181217T170000
DTSTAMP:20260425T030009
CREATED:20181127T081135Z
LAST-MODIFIED:20181127T081135Z
UID:48021-1545055200-1545066000@www.kikafekoi.fr
SUMMARY:Art floral
DESCRIPTION:Nous apprendrons à réaliser de belles compositions. La table de Noël sera à n’en pas douter joyeuse.
URL:https://www.kikafekoi.fr/event/art-floral/
LOCATION:Kikafékoi\, passage des Libellules\, 11 rue de la pièce Perrot\, Langueux
CATEGORIES:Evenements
ATTACH;FMTTYPE=image/jpeg:https://www.kikafekoi.fr/wp-content/uploads/2018/11/Art-floral.jpg
END:VEVENT
BEGIN:VEVENT
DTSTART;TZID=Europe/Paris:20181119T140000
DTEND;TZID=Europe/Paris:20181119T170000
DTSTAMP:20260425T030009
CREATED:20181027T093909Z
LAST-MODIFIED:20181027T093909Z
UID:47958-1542636000-1542646800@www.kikafekoi.fr
SUMMARY:Avez-vous votre snood ?
DESCRIPTION:Le snood est un véritable tube côté tricot. C’est l’accessoire idéal pour garder son cou bien au chaud. Oublié le problème de l’écharpe qui laisse passer le froid d’hiver. \nEt bien ici\, on va apprendre ensemble à en tricoter.
URL:https://www.kikafekoi.fr/event/avez-vous-votre-snood/
LOCATION:Kikafékoi\, passage des Libellules\, 11 rue de la pièce Perrot\, Langueux
CATEGORIES:Evenements
END:VEVENT
BEGIN:VEVENT
DTSTART;TZID=Europe/Paris:20181113T200000
DTEND;TZID=Europe/Paris:20181113T220000
DTSTAMP:20260425T030009
CREATED:20180918T070602Z
LAST-MODIFIED:20181023T064726Z
UID:47818-1542139200-1542146400@www.kikafekoi.fr
SUMMARY:Repair Café autour du moteur électrique
DESCRIPTION:Ce soir là\, vous n’apporterez pas vos engins à réparer mais vos connaissances et vos lacunes… Et surtout\, comme d’habitude\, votre bonne humeur et vos envies d’en savoir un peu plus sur ces engins un peu particuliers. \nDifférents types de moteurs : à courant continu\, à courant alternatif\, synchrones ou non\, moteurs « spéciaux » (pas-à-pas & brushless) \nPrincipes généraux : le magnétisme\, le collecteur\, les champs alternatifs\, le démarrage par enroulement auxiliaire \nConcrètement : vous devriez être capable de… \n\nReconnaître un type de moteur & tester ses composants\nRaccorder un moteur universel (machine à laver par exemple) puis inverser son sens de rotation
URL:https://www.kikafekoi.fr/event/repair-cafe-13/
LOCATION:Kikafékoi\, passage des Libellules\, 11 rue de la pièce Perrot\, Langueux
CATEGORIES:L'association
END:VEVENT
BEGIN:VEVENT
DTSTART;TZID=Europe/Paris:20181031T140000
DTEND;TZID=Europe/Paris:20181031T180000
DTSTAMP:20260425T030009
CREATED:20180928T062312Z
LAST-MODIFIED:20180928T072525Z
UID:47865-1540994400-1541008800@www.kikafekoi.fr
SUMMARY:Halloween
DESCRIPTION:Apporte des restes de tissu\, des idées et ensemble cousons et cuisinons pour Halloween.
URL:https://www.kikafekoi.fr/event/halloween/
LOCATION:Salle de l’Orangerie\, 39\, rue de l'Aubépine\, Langueux\, 22360\, France
CATEGORIES:Evenements
END:VEVENT
BEGIN:VEVENT
DTSTART;TZID=Europe/Paris:20180617T140000
DTEND;TZID=Europe/Paris:20180617T170000
DTSTAMP:20260425T030009
CREATED:20180522T080306Z
LAST-MODIFIED:20180522T080324Z
UID:2703-1529244000-1529254800@www.kikafekoi.fr
SUMMARY:Atelier déco
DESCRIPTION:On prépare la déco pour la fête de la musique\, le jardin… il y aura de quoi faire pour les petits et les grands.
URL:https://www.kikafekoi.fr/event/atelier-deco/
LOCATION:Kikafékoi\, passage des Libellules\, 11 rue de la pièce Perrot\, Langueux
END:VEVENT
BEGIN:VEVENT
DTSTART;TZID=Europe/Paris:20180526T140000
DTEND;TZID=Europe/Paris:20180526T200000
DTSTAMP:20260425T030009
CREATED:20180125T102004Z
LAST-MODIFIED:20180328T081456Z
UID:2530-1527343200-1527364800@www.kikafekoi.fr
SUMMARY:Fête de la récup'
DESCRIPTION:Des associations de l’agglo se groupent pour une fête de la récup’ fun et instructive. \n\ndes ateliers\nune course d’engins\nune benne mystère\nde la musique\n\nPlus de renseignements sur : https://fetedelarecup2018.wixsite.com/lesite
URL:https://www.kikafekoi.fr/event/fete-de-la-recup/
LOCATION:Briqueterie\, boutdeville\, 22360 Langueux
ATTACH;FMTTYPE=image/jpeg:https://www.kikafekoi.fr/wp-content/uploads/2018/01/Fête-de-la-Récup_2018-réduite.jpg
END:VEVENT
BEGIN:VEVENT
DTSTART;TZID=Europe/Paris:20180416T140000
DTEND;TZID=Europe/Paris:20180416T190000
DTSTAMP:20260425T030009
CREATED:20180321T064539Z
LAST-MODIFIED:20180322T122906Z
UID:2604-1523887200-1523905200@www.kikafekoi.fr
SUMMARY:Fabrication de bijoux
DESCRIPTION:Danièle nous apprendra à fabriquer de magnifiques bracelets à partir de ruban (apportez-en 2 m de 1cm de large) et de capsules (qui seront fournies). Sinon\, et comme à chaque fois\, on peut juste venir papoter\, boire un café et grignoter.
URL:https://www.kikafekoi.fr/event/fabrication-de-bijoux/
LOCATION:Kikafékoi\, passage des Libellules\, 11 rue de la pièce Perrot\, Langueux
END:VEVENT
BEGIN:VEVENT
DTSTART;TZID=Europe/Paris:20180325T140000
DTEND;TZID=Europe/Paris:20180325T180000
DTSTAMP:20260425T030009
CREATED:20170907T085635Z
LAST-MODIFIED:20170907T085635Z
UID:2361-1521986400-1522000800@www.kikafekoi.fr
SUMMARY:Dimanche en famille
DESCRIPTION:Apporte tes œufs\, du joli papier ou de beaux feutres et ensemble nous ferons de belles décos pour Pâques. \nA 16 heures\, c’est jeux pour tous.
URL:https://www.kikafekoi.fr/event/dimanche-en-famille-12/
LOCATION:Kikafékoi\, passage des Libellules\, 11 rue de la pièce Perrot\, Langueux
END:VEVENT
BEGIN:VEVENT
DTSTART;TZID=Europe/Paris:20171210T140000
DTEND;TZID=Europe/Paris:20171210T180000
DTSTAMP:20260425T030009
CREATED:20170907T084953Z
LAST-MODIFIED:20171126T194304Z
UID:2359-1512914400-1512928800@www.kikafekoi.fr
SUMMARY:Dimanche en famille
DESCRIPTION:Noël approche\, nous vous proposons des jeux et la fabrication de décos et de lampions. Ceux qui le souhaitent pourront intégrer l’équipée des chants de noël qui ira porter de la joie à domicile le vendredi 22 décembre. \nSi tu as ça chez toi\, apporte : \n\nbouteille plastique de 5l\nbocal en verre\nfil de fer\npapier vitrail\ncanette en fer…
URL:https://www.kikafekoi.fr/event/dimanche-en-famille-11/
LOCATION:Kikafékoi\, passage des Libellules\, 11 rue de la pièce Perrot\, Langueux
END:VEVENT
BEGIN:VEVENT
DTSTART;TZID=Europe/Paris:20171025T140000
DTEND;TZID=Europe/Paris:20171025T180000
DTSTAMP:20260425T030009
CREATED:20170907T081251Z
LAST-MODIFIED:20170922T064147Z
UID:2354-1508940000-1508954400@www.kikafekoi.fr
SUMMARY:Atelier costumes d'Halloween
DESCRIPTION:Apporte des tissus\, des vêtements\, rubans et ficelles et ensemble\, cousons et customisons avec Maïe aux doigts de fée. Rendez-vous est donné le mardi 31 octobre pour une chasse aux bonbons en familles. \nOn apportera aussi un peu de tissus.
URL:https://www.kikafekoi.fr/event/atelier-costumes-dhalloween/
LOCATION:Kikafékoi\, passage des Libellules\, 11 rue de la pièce Perrot\, Langueux
END:VEVENT
BEGIN:VEVENT
DTSTART;TZID=Europe/Paris:20170618T140000
DTEND;TZID=Europe/Paris:20170618T180000
DTSTAMP:20260425T030009
CREATED:20170524T063707Z
LAST-MODIFIED:20170524T063707Z
UID:2237-1497794400-1497808800@www.kikafekoi.fr
SUMMARY:Musique et déco en famille
DESCRIPTION:Pour la fête de la musique\, nous montons un bar et un décor\, alors si ça te dis de planter trois clous et de donner un coup de pinceau en toute simplicité\, rejoins-nous ! Cet atelier est ouvert aux enfants.
URL:https://www.kikafekoi.fr/event/musique-et-deco-en-famille/
LOCATION:Kikafékoi\, passage des Libellules\, 11 rue de la pièce Perrot\, Langueux
END:VEVENT
BEGIN:VEVENT
DTSTART;TZID=Europe/Paris:20170526T200000
DTEND;TZID=Europe/Paris:20170526T220000
DTSTAMP:20260425T030009
CREATED:20170424T184556Z
LAST-MODIFIED:20191205T161822Z
UID:2151-1495828800-1495836000@www.kikafekoi.fr
SUMMARY:Repair Café
DESCRIPTION:On s’entraide\, on bricole\, on répare les petits bobos de nos bibelots et petit électroménager. Cette fois-ci\, Dominique nous apprend à souder à l’étain sans bavure. \n> Le site internet du Repair Café de Langueux
URL:https://www.kikafekoi.fr/event/repair-cafe-4/
LOCATION:Kikafékoi\, passage des Libellules\, 11 rue de la pièce Perrot\, Langueux
END:VEVENT
BEGIN:VEVENT
DTSTART;TZID=Europe/Paris:20170513T140000
DTEND;TZID=Europe/Paris:20170513T170000
DTSTAMP:20260425T030009
CREATED:20170130T082023Z
LAST-MODIFIED:20170130T082023Z
UID:2017-1494684000-1494694800@www.kikafekoi.fr
SUMMARY:Répare tes fringues
DESCRIPTION:Maïe vous accompagne et vous conseille dans vos projets de couture. Création\, réparation\, transformation\, tout est bon.
URL:https://www.kikafekoi.fr/event/repare-tes-fringues-2/
LOCATION:Kikafékoi\, passage des Libellules\, 11 rue de la pièce Perrot\, Langueux
END:VEVENT
BEGIN:VEVENT
DTSTART;TZID=Europe/Paris:20170429T140000
DTEND;TZID=Europe/Paris:20170429T170000
DTSTAMP:20260425T030009
CREATED:20170130T081905Z
LAST-MODIFIED:20170130T081905Z
UID:2016-1493474400-1493485200@www.kikafekoi.fr
SUMMARY:Répare tes fringues
DESCRIPTION:Maïe vous accompagne et vous conseille dans vos projets de couture. Création\, réparation\, transformation\, tout est bon.
URL:https://www.kikafekoi.fr/event/repare-tes-fringues/
LOCATION:Kikafékoi\, passage des Libellules\, 11 rue de la pièce Perrot\, Langueux
END:VEVENT
BEGIN:VEVENT
DTSTART;TZID=Europe/Paris:20170423T140000
DTEND;TZID=Europe/Paris:20170423T160000
DTSTAMP:20260425T030009
CREATED:20170314T075331Z
LAST-MODIFIED:20170316T160339Z
UID:2099-1492956000-1492963200@www.kikafekoi.fr
SUMMARY:Atelier cerfs-volants et objets en bois
DESCRIPTION:Récup’ et bouts de ficelles\, c’est le printemps\, on profite du vent\, on fait des cerfs-volants. \nD’un autre côté\, vous pourrez apprendre à couper\, chantourner\, poncer et repartir avec un magnifique objet en bois.
URL:https://www.kikafekoi.fr/event/atelier-cerfs-volants/
LOCATION:Kikafékoi\, passage des Libellules\, 11 rue de la pièce Perrot\, Langueux
END:VEVENT
BEGIN:VEVENT
DTSTART;TZID=Europe/Paris:20170319T140000
DTEND;TZID=Europe/Paris:20170319T160000
DTSTAMP:20260425T030009
CREATED:20161221T085128Z
LAST-MODIFIED:20170307T075937Z
UID:1962-1489932000-1489939200@www.kikafekoi.fr
SUMMARY:Atelier terre en famille
DESCRIPTION:Cette fois-ci\, la Briqueterie vient nous proposer un atelier terre. C’est sur réservation\, alors fais vite. \nclique pour réserver\n14h-16h : atelier de deux heures à partir de 6 ans \n15h-15h30 : atelier parent/enfant \n15h30-16h : atelier parent/enfant
URL:https://www.kikafekoi.fr/event/dimanche-en-famille-8/
END:VEVENT
BEGIN:VEVENT
DTSTART;TZID=Europe/Paris:20170224T140000
DTEND;TZID=Europe/Paris:20170224T190000
DTSTAMP:20260425T030009
CREATED:20170126T145609Z
LAST-MODIFIED:20170126T145609Z
UID:2014-1487944800-1487962800@www.kikafekoi.fr
SUMMARY:Déco et mise en place
DESCRIPTION:Pour que la fête soit belle\, on décore\, on accroche\, on tire des câbles\, on sort des chaises et on mange ensemble sur le pouce. Toutes les bonnes volontés sont les bienvenues.
URL:https://www.kikafekoi.fr/event/deco-et-mise-en-place/
LOCATION:Terrasse du Point Virgule\, 9\, rue Saint pern\, 22360 Langueux
END:VEVENT
BEGIN:VEVENT
DTSTART;TZID=Europe/Paris:20170217T200000
DTEND;TZID=Europe/Paris:20170217T220000
DTSTAMP:20260425T030009
CREATED:20161117T123313Z
LAST-MODIFIED:20161230T114224Z
UID:1863-1487361600-1487368800@www.kikafekoi.fr
SUMMARY:Cuisine à l'aveugle
DESCRIPTION:Chacun apporte quelques ingrédients. On met ça sur le plan de travail\, on se creuse le ciboulot et on fait le pari de réussir un plat original et succulent. \nPas de panique\, nous aurons des pâtes au cas où.
URL:https://www.kikafekoi.fr/event/cuisine-a-laveugle/
LOCATION:Kikafékoi\, passage des Libellules\, 11 rue de la pièce Perrot\, Langueux
END:VEVENT
BEGIN:VEVENT
DTSTART;TZID=Europe/Paris:20170211T143000
DTEND;TZID=Europe/Paris:20170211T170000
DTSTAMP:20260425T030009
CREATED:20161019T102336Z
LAST-MODIFIED:20161201T144707Z
UID:1772-1486823400-1486832400@www.kikafekoi.fr
SUMMARY:Atelier de journal créatif
DESCRIPTION:Dans le cadre du projet « émotions » mené par le Kikafékoi\, je vous propose d’explorer le thème des émotions par l’intermédiaire de la créativité : comment les exprimer autrement ? Comment les explorer ? \nAvec la méthode du Journal Créatif®\, je vous guide à travers des exercices de dessin\, d’écriture et de collage. Pas besoin de « savoir dessiner » ni « d’être créatif »\, tout le monde peut profiter des bienfaits de la créativité. On ne cherche pas à créer quelque chose de beau et on n’a pas à montrer ce que l’on fait. Venez simplement avec l’envie d’expérimenter. \nGaëlle
URL:https://www.kikafekoi.fr/event/atelier-de-journal-creatif/
LOCATION:Kikafékoi\, passage des Libellules\, 11 rue de la pièce Perrot\, Langueux
END:VEVENT
BEGIN:VEVENT
DTSTART;TZID=Europe/Paris:20170115T140000
DTEND;TZID=Europe/Paris:20170115T180000
DTSTAMP:20260425T030009
CREATED:20161129T091223Z
LAST-MODIFIED:20161230T113823Z
UID:1889-1484488800-1484503200@www.kikafekoi.fr
SUMMARY:Dimanche des oiseaux
DESCRIPTION:Dans le cadre des dimanches en famille\, Babeth nous propose de nous apprendre à reconnaître et à compter les oiseaux de nos jardins. Tout le monde sera ainsi au top pour la campagne nationale de comptage de la fin du mois. \nEn parallèle\, on joue en famille.
URL:https://www.kikafekoi.fr/event/dimanche-des-oiseaux/
LOCATION:Kikafékoi\, passage des Libellules\, 11 rue de la pièce Perrot\, Langueux
END:VEVENT
BEGIN:VEVENT
DTSTART;TZID=Europe/Paris:20170113T200000
DTEND;TZID=Europe/Paris:20170113T220000
DTSTAMP:20260425T030009
CREATED:20161117T122305Z
LAST-MODIFIED:20161230T113929Z
UID:1860-1484337600-1484344800@www.kikafekoi.fr
SUMMARY:Soirée Tartiflette
DESCRIPTION:Vendredi 13\, c’est loto ou tartiflette. Au Kikaf’ on a choisi. \n  \nPour réserver\, clique sur le bouton. \nRéserver la tartiflette
URL:https://www.kikafekoi.fr/event/soiree-tartiflette/
LOCATION:Kikafékoi\, passage des Libellules\, 11 rue de la pièce Perrot\, Langueux
END:VEVENT
END:VCALENDAR