BEGIN:VCALENDAR
VERSION:2.0
PRODID:-//Le Kikafekoi - Café associatif de Langueux - ECPv6.15.20//NONSGML v1.0//EN
CALSCALE:GREGORIAN
METHOD:PUBLISH
X-WR-CALNAME:Le Kikafekoi - Café associatif de Langueux
X-ORIGINAL-URL:https://www.kikafekoi.fr
X-WR-CALDESC:Évènements pour Le Kikafekoi - Café associatif de Langueux
REFRESH-INTERVAL;VALUE=DURATION:PT1H
X-Robots-Tag:noindex
X-PUBLISHED-TTL:PT1H
BEGIN:VTIMEZONE
TZID:Europe/Paris
BEGIN:DAYLIGHT
TZOFFSETFROM:+0100
TZOFFSETTO:+0200
TZNAME:CEST
DTSTART:20160327T010000
END:DAYLIGHT
BEGIN:STANDARD
TZOFFSETFROM:+0200
TZOFFSETTO:+0100
TZNAME:CET
DTSTART:20161030T010000
END:STANDARD
BEGIN:DAYLIGHT
TZOFFSETFROM:+0100
TZOFFSETTO:+0200
TZNAME:CEST
DTSTART:20170326T010000
END:DAYLIGHT
BEGIN:STANDARD
TZOFFSETFROM:+0200
TZOFFSETTO:+0100
TZNAME:CET
DTSTART:20171029T010000
END:STANDARD
BEGIN:DAYLIGHT
TZOFFSETFROM:+0100
TZOFFSETTO:+0200
TZNAME:CEST
DTSTART:20180325T010000
END:DAYLIGHT
BEGIN:STANDARD
TZOFFSETFROM:+0200
TZOFFSETTO:+0100
TZNAME:CET
DTSTART:20181028T010000
END:STANDARD
BEGIN:DAYLIGHT
TZOFFSETFROM:+0100
TZOFFSETTO:+0200
TZNAME:CEST
DTSTART:20190331T010000
END:DAYLIGHT
BEGIN:STANDARD
TZOFFSETFROM:+0200
TZOFFSETTO:+0100
TZNAME:CET
DTSTART:20191027T010000
END:STANDARD
END:VTIMEZONE
BEGIN:VTIMEZONE
TZID:Europe/Paris
BEGIN:DAYLIGHT
TZOFFSETFROM:+0100
TZOFFSETTO:+0200
TZNAME:CEST
DTSTART:20160327T010000
END:DAYLIGHT
BEGIN:STANDARD
TZOFFSETFROM:+0200
TZOFFSETTO:+0100
TZNAME:CET
DTSTART:20161030T010000
END:STANDARD
BEGIN:DAYLIGHT
TZOFFSETFROM:+0100
TZOFFSETTO:+0200
TZNAME:CEST
DTSTART:20170326T010000
END:DAYLIGHT
BEGIN:STANDARD
TZOFFSETFROM:+0200
TZOFFSETTO:+0100
TZNAME:CET
DTSTART:20171029T010000
END:STANDARD
BEGIN:DAYLIGHT
TZOFFSETFROM:+0100
TZOFFSETTO:+0200
TZNAME:CEST
DTSTART:20180325T010000
END:DAYLIGHT
BEGIN:STANDARD
TZOFFSETFROM:+0200
TZOFFSETTO:+0100
TZNAME:CET
DTSTART:20181028T010000
END:STANDARD
BEGIN:DAYLIGHT
TZOFFSETFROM:+0100
TZOFFSETTO:+0200
TZNAME:CEST
DTSTART:20190331T010000
END:DAYLIGHT
BEGIN:STANDARD
TZOFFSETFROM:+0200
TZOFFSETTO:+0100
TZNAME:CET
DTSTART:20191027T010000
END:STANDARD
END:VTIMEZONE
BEGIN:VEVENT
DTSTART;TZID=Europe/Paris:20181118T090000
DTEND;TZID=Europe/Paris:20181118T170000
DTSTAMP:20260420T154431
CREATED:20181023T090120Z
LAST-MODIFIED:20181023T090120Z
UID:47954-1542531600-1542560400@www.kikafekoi.fr
SUMMARY:Journée jus de pomme
DESCRIPTION:C’est le grand jour\, petits et grands sont invités à venir presser les pommes à l’ancienne et à goûter le jus bien frais. Pique-nique partagé à midi.
URL:https://www.kikafekoi.fr/event/journee-jus-de-pomme/
LOCATION:Kikafékoi\, passage des Libellules\, 11 rue de la pièce Perrot\, Langueux
CATEGORIES:Evenements
END:VEVENT
BEGIN:VEVENT
DTSTART;TZID=Europe/Paris:20181104T090000
DTEND;TZID=Europe/Paris:20181104T120000
DTSTAMP:20260420T154431
CREATED:20180929T112847Z
LAST-MODIFIED:20181015T063846Z
UID:47900-1541322000-1541332800@www.kikafekoi.fr
SUMMARY:Sortie champignons
DESCRIPTION:Rendez-vous aux aurores pour une pêche miraculeuse… ou une bonne balade. On partira en covoiturage pour le bois de Plédran. \nInscription sur contact@kikafekoi.fr pour qu’on te prévienne en cas de mauvais temps.
URL:https://www.kikafekoi.fr/event/sortie-champignons-3/
LOCATION:Kikafékoi\, passage des Libellules\, 11 rue de la pièce Perrot\, Langueux
CATEGORIES:Evenements
END:VEVENT
BEGIN:VEVENT
DTSTART;TZID=Europe/Paris:20181031T140000
DTEND;TZID=Europe/Paris:20181031T180000
DTSTAMP:20260420T154431
CREATED:20180928T062312Z
LAST-MODIFIED:20180928T072525Z
UID:47865-1540994400-1541008800@www.kikafekoi.fr
SUMMARY:Halloween
DESCRIPTION:Apporte des restes de tissu\, des idées et ensemble cousons et cuisinons pour Halloween.
URL:https://www.kikafekoi.fr/event/halloween/
LOCATION:Salle de l’Orangerie\, 39\, rue de l'Aubépine\, Langueux\, 22360\, France
CATEGORIES:Evenements
END:VEVENT
BEGIN:VEVENT
DTSTART;TZID=Europe/Paris:20181010T140000
DTEND;TZID=Europe/Paris:20181010T180000
DTSTAMP:20260420T154431
CREATED:20180928T061348Z
LAST-MODIFIED:20180928T072604Z
UID:47857-1539180000-1539194400@www.kikafekoi.fr
SUMMARY:Coding goûter
DESCRIPTION:Tu as toujours rêvé d’apprendre à programmer ? Suite au succès du premier atelier\, Bruno nous propose de construire ensemble des jeux vidéo. Apporte un goûter\, un ordinateur portable et c’est parti ! \nLes parents sont plus que les bienvenus.
URL:https://www.kikafekoi.fr/event/coding-gouter-2/
LOCATION:Kikafékoi\, passage des Libellules\, 11 rue de la pièce Perrot\, Langueux
CATEGORIES:Evenements
END:VEVENT
BEGIN:VEVENT
DTSTART;TZID=Europe/Paris:20180617T140000
DTEND;TZID=Europe/Paris:20180617T170000
DTSTAMP:20260420T154431
CREATED:20180522T080306Z
LAST-MODIFIED:20180522T080324Z
UID:2703-1529244000-1529254800@www.kikafekoi.fr
SUMMARY:Atelier déco
DESCRIPTION:On prépare la déco pour la fête de la musique\, le jardin… il y aura de quoi faire pour les petits et les grands.
URL:https://www.kikafekoi.fr/event/atelier-deco/
LOCATION:Kikafékoi\, passage des Libellules\, 11 rue de la pièce Perrot\, Langueux
END:VEVENT
BEGIN:VEVENT
DTSTART;TZID=Europe/Paris:20180518T200000
DTEND;TZID=Europe/Paris:20180518T220000
DTSTAMP:20260420T154431
CREATED:20180423T075243Z
LAST-MODIFIED:20180423T075243Z
UID:2662-1526673600-1526680800@www.kikafekoi.fr
SUMMARY:Soirée parents
DESCRIPTION:réservation : contact@kikafekoi.fr places limitées\nNous vivons dans une société où la recherche de la « réussite » et de la « performance » prend une place de plus en plus importante. Les enfants vivent cette pression dès leur plus jeune âge (acquisition de la propreté\, du langage\, de la marche ….) et tout au long de leur enfance et adolescence (performance scolaire\, sportive\, notation…).\nQuelles conséquences pour le développement de l’enfant ?\nPourquoi cette recherche de performance ?\nComment accompagner l’enfant pour qu’il ait plaisir à\napprendre ?\nNous vous proposons d’échanger ensemble autour de ces questions en nous appuyant sur des exemples concrets et vivants.\nSoirée d’échanges animée par Diego Rora\, Psychologue clinicien \n 
URL:https://www.kikafekoi.fr/event/soiree-parents/
LOCATION:Le grand pré  – Salle du grand large\, 22360 Langueux
END:VEVENT
BEGIN:VEVENT
DTSTART;TZID=Europe/Paris:20180401T100000
DTEND;TZID=Europe/Paris:20180401T120000
DTSTAMP:20260420T154431
CREATED:20170907T090209Z
LAST-MODIFIED:20170907T090209Z
UID:2362-1522576800-1522584000@www.kikafekoi.fr
SUMMARY:Chasse à l'œufs mutualiste
DESCRIPTION:La chasse aux œufs\, une belle compétition où le plus rapide attrape une indigestion alors que le plus petit n’a que ses yeux pour pleurer ? Mais non. Chacun apporte des œufs au Kikaf’ le vendredi 30 mars entre 18h et 19 heures. Ensuite\, une équipe de cloches motivées ira les cacher le dimanche matin. \nOn met le butin en commun et on tire les parts au sort\, comme les pirates !
URL:https://www.kikafekoi.fr/event/chasse-a-loeufs-mutualiste/
LOCATION:Centre Culturel le Grand Pré\, rue de la roche durand\, langueux\, France
END:VEVENT
BEGIN:VEVENT
DTSTART;TZID=Europe/Paris:20180325T140000
DTEND;TZID=Europe/Paris:20180325T180000
DTSTAMP:20260420T154431
CREATED:20170907T085635Z
LAST-MODIFIED:20170907T085635Z
UID:2361-1521986400-1522000800@www.kikafekoi.fr
SUMMARY:Dimanche en famille
DESCRIPTION:Apporte tes œufs\, du joli papier ou de beaux feutres et ensemble nous ferons de belles décos pour Pâques. \nA 16 heures\, c’est jeux pour tous.
URL:https://www.kikafekoi.fr/event/dimanche-en-famille-12/
LOCATION:Kikafékoi\, passage des Libellules\, 11 rue de la pièce Perrot\, Langueux
END:VEVENT
BEGIN:VEVENT
DTSTART;TZID=Europe/Paris:20180216T200000
DTEND;TZID=Europe/Paris:20180216T220000
DTSTAMP:20260420T154431
CREATED:20171214T120251Z
LAST-MODIFIED:20180124T082027Z
UID:2482-1518811200-1518818400@www.kikafekoi.fr
SUMMARY:Soirée contes
DESCRIPTION:Un duo\, un accordéon\, des histoires… \nUn spectacle d’1h15. \nPrix libre\, le contenu du chapeau ira à la Cimade.
URL:https://www.kikafekoi.fr/event/soiree-contes/
LOCATION:Kikafékoi\, passage des Libellules\, 11 rue de la pièce Perrot\, Langueux
END:VEVENT
BEGIN:VEVENT
DTSTART;TZID=Europe/Paris:20180121T150000
DTEND;TZID=Europe/Paris:20180121T170000
DTSTAMP:20260420T154431
CREATED:20171223T155637Z
LAST-MODIFIED:20171227T101126Z
UID:2491-1516546800-1516554000@www.kikafekoi.fr
SUMMARY:Bamitiliyou : Conte
DESCRIPTION:Conte pour enfants de 7 à 77 ans par la compagnie L’amoscope \nBamitiliyou serait un garçon comme les autres s’il n’avait des oreilles extraordinaires qui lui valaient d’être moqué et mis à l’écart par les enfants de son école. Il faut dire qu’une de ses oreilles est en forme de harpe et l’autre ressemble à un tambour. Et comme si cela ne suffisait pas\, elles produisent aussi des sons. Le malheureux Bamitiliyou songe d’abord à se trancher les oreilles. Mais sa rencontre avec un magicien dans une étrange forêt va permettre au garçon de réaliser que sa différence peut être aussi une richesse… \nParticipation libre au chapeau.
URL:https://www.kikafekoi.fr/event/bamitiliyou-conte/
LOCATION:Kikafékoi\, passage des Libellules\, 11 rue de la pièce Perrot\, Langueux
END:VEVENT
BEGIN:VEVENT
DTSTART;TZID=Europe/Paris:20171222T180000
DTEND;TZID=Europe/Paris:20171222T200000
DTSTAMP:20260420T154431
CREATED:20170907T085218Z
LAST-MODIFIED:20170918T071409Z
UID:2360-1513965600-1513972800@www.kikafekoi.fr
SUMMARY:Chants de Noël
DESCRIPTION:Ce soir\, on prend notre bonne humeur\, et on fait le tour de Langueux pour chanter au porte-à-porte. \nTu sais chanter (ou pas)\, tu as ton lampion (ou pas)\, en tout cas tu veux passer un bon moment et terminer par un vin chaud\, alors rejoins la bande.
URL:https://www.kikafekoi.fr/event/ya-dla-joie/
LOCATION:Kikafékoi\, passage des Libellules\, 11 rue de la pièce Perrot\, Langueux
END:VEVENT
BEGIN:VEVENT
DTSTART;TZID=Europe/Paris:20171210T140000
DTEND;TZID=Europe/Paris:20171210T180000
DTSTAMP:20260420T154431
CREATED:20170907T084953Z
LAST-MODIFIED:20171126T194304Z
UID:2359-1512914400-1512928800@www.kikafekoi.fr
SUMMARY:Dimanche en famille
DESCRIPTION:Noël approche\, nous vous proposons des jeux et la fabrication de décos et de lampions. Ceux qui le souhaitent pourront intégrer l’équipée des chants de noël qui ira porter de la joie à domicile le vendredi 22 décembre. \nSi tu as ça chez toi\, apporte : \n\nbouteille plastique de 5l\nbocal en verre\nfil de fer\npapier vitrail\ncanette en fer…
URL:https://www.kikafekoi.fr/event/dimanche-en-famille-11/
LOCATION:Kikafékoi\, passage des Libellules\, 11 rue de la pièce Perrot\, Langueux
END:VEVENT
BEGIN:VEVENT
DTSTART;TZID=Europe/Paris:20171126T140000
DTEND;TZID=Europe/Paris:20171126T180000
DTSTAMP:20260420T154431
CREATED:20171025T180455Z
LAST-MODIFIED:20171025T180522Z
UID:2416-1511704800-1511719200@www.kikafekoi.fr
SUMMARY:Dimanche en famille
DESCRIPTION:Après le repas partagé\, jeux pour petits et grands autour du thème de la nature… entre autres grâce à notre formidable équipe de ludothécaires.
URL:https://www.kikafekoi.fr/event/dimanche-en-famille-13/
LOCATION:Kikafékoi\, passage des Libellules\, 11 rue de la pièce Perrot\, Langueux
END:VEVENT
BEGIN:VEVENT
DTSTART;TZID=Europe/Paris:20171105T090000
DTEND;TZID=Europe/Paris:20171105T170000
DTSTAMP:20260420T154431
CREATED:20171025T074534Z
LAST-MODIFIED:20171025T074534Z
UID:2413-1509872400-1509901200@www.kikafekoi.fr
SUMMARY:Journée cidre et jus de pomme
DESCRIPTION:Laver\, trier\, broyer\, presser\, déguster… \nEn famille le Kikaf’ fait son premier cidre ! Tous les bras sont les bienvenus.
URL:https://www.kikafekoi.fr/event/journee-cidre-et-jus-de-pomme/
LOCATION:Kikafékoi\, passage des Libellules\, 11 rue de la pièce Perrot\, Langueux
END:VEVENT
BEGIN:VEVENT
DTSTART;TZID=Europe/Paris:20171102T090000
DTEND;TZID=Europe/Paris:20171102T090000
DTSTAMP:20260420T154431
CREATED:20171025T074342Z
LAST-MODIFIED:20171025T074342Z
UID:2412-1509613200-1509613200@www.kikafekoi.fr
SUMMARY:Ramassage de pommes
DESCRIPTION:Pomme pomme pom pom ! pom pom pom pom ! \nGrand ramassage de pommes dans un verger d’Yffiniac pour pouvoir presser les premiers cidre et jus de pommes du Kikaf’ le dimanche 5 novembre.
URL:https://www.kikafekoi.fr/event/ramassage-de-pommes/
LOCATION:Kikafékoi\, passage des Libellules\, 11 rue de la pièce Perrot\, Langueux
END:VEVENT
BEGIN:VEVENT
DTSTART;TZID=Europe/Paris:20171031T173000
DTEND;TZID=Europe/Paris:20171031T190000
DTSTAMP:20260420T154431
CREATED:20170907T081702Z
LAST-MODIFIED:20170907T082236Z
UID:2355-1509471000-1509476400@www.kikafekoi.fr
SUMMARY:Chasse aux bonbons d'Halloween en familles
DESCRIPTION:Avec tes parents\, ton déguisement et ta pire grimace\, viens à la chasse aux bonbons dans Langueux. A la fin\, grand partage du butin. Ben oui\, Halloween c’est pas perso.
URL:https://www.kikafekoi.fr/event/chasse-aux-bonbons-dhalloween/
LOCATION:Kikafékoi\, passage des Libellules\, 11 rue de la pièce Perrot\, Langueux
END:VEVENT
BEGIN:VEVENT
DTSTART;TZID=Europe/Paris:20170911T200000
DTEND;TZID=Europe/Paris:20170911T220000
DTSTAMP:20260420T154431
CREATED:20170626T151203Z
LAST-MODIFIED:20170908T105320Z
UID:2319-1505160000-1505167200@www.kikafekoi.fr
SUMMARY:Parents chercheurs
DESCRIPTION:Soirée de lancement du groupe Faber et Mazlish. Il reste des places. Ce soir nous fixons ensemble le cadre de fonctionnement du groupe\, puis nous nous lancerons dans l’aventure pour 7 séances.
URL:https://www.kikafekoi.fr/event/parents-chercheurs-12/
LOCATION:Kikafékoi\, passage des Libellules\, 11 rue de la pièce Perrot\, Langueux
END:VEVENT
BEGIN:VEVENT
DTSTART;TZID=Europe/Paris:20170423T160000
DTEND;TZID=Europe/Paris:20170423T180000
DTSTAMP:20260420T154431
CREATED:20170327T075741Z
LAST-MODIFIED:20170327T075741Z
UID:2133-1492963200-1492970400@www.kikafekoi.fr
SUMMARY:Dimanche en famille
DESCRIPTION:On papote\, on se rencontre autour d’un jeu. L’équipe de la ludothèque vous accueille et vous guide si besoin.
URL:https://www.kikafekoi.fr/event/dimanche-en-famille-9/
LOCATION:Kikafékoi\, passage des Libellules\, 11 rue de la pièce Perrot\, Langueux
END:VEVENT
BEGIN:VEVENT
DTSTART;TZID=Europe/Paris:20170211T143000
DTEND;TZID=Europe/Paris:20170211T170000
DTSTAMP:20260420T154431
CREATED:20161019T102336Z
LAST-MODIFIED:20161201T144707Z
UID:1772-1486823400-1486832400@www.kikafekoi.fr
SUMMARY:Atelier de journal créatif
DESCRIPTION:Dans le cadre du projet « émotions » mené par le Kikafékoi\, je vous propose d’explorer le thème des émotions par l’intermédiaire de la créativité : comment les exprimer autrement ? Comment les explorer ? \nAvec la méthode du Journal Créatif®\, je vous guide à travers des exercices de dessin\, d’écriture et de collage. Pas besoin de « savoir dessiner » ni « d’être créatif »\, tout le monde peut profiter des bienfaits de la créativité. On ne cherche pas à créer quelque chose de beau et on n’a pas à montrer ce que l’on fait. Venez simplement avec l’envie d’expérimenter. \nGaëlle
URL:https://www.kikafekoi.fr/event/atelier-de-journal-creatif/
LOCATION:Kikafékoi\, passage des Libellules\, 11 rue de la pièce Perrot\, Langueux
END:VEVENT
BEGIN:VEVENT
DTSTART;TZID=Europe/Paris:20170117T201500
DTEND;TZID=Europe/Paris:20170117T220000
DTSTAMP:20260420T154431
CREATED:20170104T165503Z
LAST-MODIFIED:20170104T165503Z
UID:1974-1484684100-1484690400@www.kikafekoi.fr
SUMMARY:Parents chercheurs
DESCRIPTION:Depuis un an\, des parents se retrouvent pour parler… parentalité. Ils cherchent ensemble des solutions\, des pistes pour accompagner au mieux leurs enfants sur les chemins de l’autonomie.
URL:https://www.kikafekoi.fr/event/parents-chercheurs-8/
LOCATION:Kikafékoi\, passage des Libellules\, 11 rue de la pièce Perrot\, Langueux
END:VEVENT
END:VCALENDAR